
BEGIN:VCALENDAR
VERSION:2.0
PRODID:-//Acorn School - ECPv6.15.20//NONSGML v1.0//EN
CALSCALE:GREGORIAN
METHOD:PUBLISH
X-WR-CALNAME:Acorn School
X-ORIGINAL-URL:https://aschas.org
X-WR-CALDESC:Events for Acorn School
REFRESH-INTERVAL;VALUE=DURATION:PT1H
X-Robots-Tag:noindex
X-PUBLISHED-TTL:PT1H
BEGIN:VTIMEZONE
TZID:America/New_York
BEGIN:DAYLIGHT
TZOFFSETFROM:-0500
TZOFFSETTO:-0400
TZNAME:EDT
DTSTART:20250309T070000
END:DAYLIGHT
BEGIN:STANDARD
TZOFFSETFROM:-0400
TZOFFSETTO:-0500
TZNAME:EST
DTSTART:20251102T060000
END:STANDARD
BEGIN:DAYLIGHT
TZOFFSETFROM:-0500
TZOFFSETTO:-0400
TZNAME:EDT
DTSTART:20260308T070000
END:DAYLIGHT
BEGIN:STANDARD
TZOFFSETFROM:-0400
TZOFFSETTO:-0500
TZNAME:EST
DTSTART:20261101T060000
END:STANDARD
BEGIN:DAYLIGHT
TZOFFSETFROM:-0500
TZOFFSETTO:-0400
TZNAME:EDT
DTSTART:20270314T070000
END:DAYLIGHT
BEGIN:STANDARD
TZOFFSETFROM:-0400
TZOFFSETTO:-0500
TZNAME:EST
DTSTART:20271107T060000
END:STANDARD
END:VTIMEZONE
BEGIN:VEVENT
DTSTART;TZID=America/New_York:20260312T120000
DTEND;TZID=America/New_York:20260312T170000
DTSTAMP:20260424T081223
CREATED:20250813T155841Z
LAST-MODIFIED:20250813T160346Z
UID:13385-1773316800-1773334800@aschas.org
SUMMARY:Parent-Teacher Conferences
DESCRIPTION:Noon Dismissal
URL:https://aschas.org/calendar-event-single/parent-teacher-conferences-12/
END:VEVENT
BEGIN:VEVENT
DTSTART;TZID=America/New_York:20260313T120000
DTEND;TZID=America/New_York:20260313T170000
DTSTAMP:20260424T081223
CREATED:20250813T155918Z
LAST-MODIFIED:20250813T160424Z
UID:13387-1773403200-1773421200@aschas.org
SUMMARY:Parent-Teacher Conferences
DESCRIPTION:*3/12: Weather Make-up Day if needed
URL:https://aschas.org/calendar-event-single/parent-teacher-conferences-13/
END:VEVENT
END:VCALENDAR